BEGIN:VCALENDAR
VERSION:2.0
PRODID:-//Heimatverein Luftenberg an der Donau - ECPv6.15.20//NONSGML v1.0//EN
CALSCALE:GREGORIAN
METHOD:PUBLISH
X-ORIGINAL-URL:https://heimatverein-luftenberg.at
X-WR-CALDESC:Veranstaltungen für Heimatverein Luftenberg an der Donau
REFRESH-INTERVAL;VALUE=DURATION:PT1H
X-Robots-Tag:noindex
X-PUBLISHED-TTL:PT1H
BEGIN:VTIMEZONE
TZID:Europe/Vienna
BEGIN:DAYLIGHT
TZOFFSETFROM:+0100
TZOFFSETTO:+0200
TZNAME:CEST
DTSTART:20250330T010000
END:DAYLIGHT
BEGIN:STANDARD
TZOFFSETFROM:+0200
TZOFFSETTO:+0100
TZNAME:CET
DTSTART:20251026T010000
END:STANDARD
BEGIN:DAYLIGHT
TZOFFSETFROM:+0100
TZOFFSETTO:+0200
TZNAME:CEST
DTSTART:20260329T010000
END:DAYLIGHT
BEGIN:STANDARD
TZOFFSETFROM:+0200
TZOFFSETTO:+0100
TZNAME:CET
DTSTART:20261025T010000
END:STANDARD
BEGIN:DAYLIGHT
TZOFFSETFROM:+0100
TZOFFSETTO:+0200
TZNAME:CEST
DTSTART:20270328T010000
END:DAYLIGHT
BEGIN:STANDARD
TZOFFSETFROM:+0200
TZOFFSETTO:+0100
TZNAME:CET
DTSTART:20271031T010000
END:STANDARD
END:VTIMEZONE
BEGIN:VEVENT
DTSTART;TZID=Europe/Vienna:20260414T140000
DTEND;TZID=Europe/Vienna:20260414T190000
DTSTAMP:20260424T165838
CREATED:20260402T184629Z
LAST-MODIFIED:20260402T184629Z
UID:4328-1776175200-1776193200@heimatverein-luftenberg.at
SUMMARY:Heimatputz - Zukunftsstrategie
DESCRIPTION:Entrümpelung und Strategie für Erneuerung des Heimatraumes.\nJeder ist herzlich Willkommen sich einzubringen &\neventuell für die private Sammlung etwas zu erlangen.
URL:https://heimatverein-luftenberg.at/event/heimatputz-zukunftsstrategie/
LOCATION:Vereinsraum\, Florianiweg 7\, Luftenberg/D.\, 4225\, Österreich
END:VEVENT
END:VCALENDAR